BEGIN:VCALENDAR
VERSION:2.0
PRODID:-//WWB-Entertainment Ihr Eventservice für Ihr Reitturnier und mehr - ECPv6.2.4//NONSGML v1.0//EN
CALSCALE:GREGORIAN
METHOD:PUBLISH
X-ORIGINAL-URL:https://wwb-entertainment.de
X-WR-CALDESC:Veranstaltungen für WWB-Entertainment Ihr Eventservice für Ihr Reitturnier und mehr
REFRESH-INTERVAL;VALUE=DURATION:PT1H
X-Robots-Tag:noindex
X-PUBLISHED-TTL:PT1H
BEGIN:VTIMEZONE
TZID:UTC
BEGIN:STANDARD
TZOFFSETFROM:+0000
TZOFFSETTO:+0000
TZNAME:UTC
DTSTART:20220101T000000
END:STANDARD
END:VTIMEZONE
BEGIN:VEVENT
DTSTART;TZID=UTC:20221001T080000
DTEND;TZID=UTC:20221003T170000
DTSTAMP:20260425T003018
CREATED:20220315T102017Z
LAST-MODIFIED:20220315T102019Z
UID:2109-1664611200-1664816400@wwb-entertainment.de
SUMMARY:Rietberg
DESCRIPTION:
URL:https://wwb-entertainment.de/veranstaltungen/rietberg-2/
LOCATION:Reitanlage am Hof Buschsieweke\, Brüningsweg 15\, Rietberg\, 33397\, Deutschland
END:VEVENT
END:VCALENDAR