BEGIN:VCALENDAR
VERSION:2.0
PRODID:-//WWB-Entertainment Ihr Eventservice für Ihr Reitturnier und mehr - ECPv6.2.4//NONSGML v1.0//EN
CALSCALE:GREGORIAN
METHOD:PUBLISH
X-WR-CALNAME:WWB-Entertainment Ihr Eventservice für Ihr Reitturnier und mehr
X-ORIGINAL-URL:https://wwb-entertainment.de
X-WR-CALDESC:Veranstaltungen für WWB-Entertainment Ihr Eventservice für Ihr Reitturnier und mehr
REFRESH-INTERVAL;VALUE=DURATION:PT1H
X-Robots-Tag:noindex
X-PUBLISHED-TTL:PT1H
BEGIN:VTIMEZONE
TZID:UTC
BEGIN:STANDARD
TZOFFSETFROM:+0000
TZOFFSETTO:+0000
TZNAME:UTC
DTSTART:20220101T000000
END:STANDARD
END:VTIMEZONE
BEGIN:VEVENT
DTSTART;TZID=UTC:20220901T080000
DTEND;TZID=UTC:20220904T170000
DTSTAMP:20260424T231047
CREATED:20220315T100544Z
LAST-MODIFIED:20220315T100546Z
UID:2089-1662019200-1662310800@wwb-entertainment.de
SUMMARY:Bad Rothenfelder Reitertage
DESCRIPTION:
URL:https://wwb-entertainment.de/veranstaltungen/bad-rothenfelder-reitertage/
LOCATION:Reit- und Fahrverein »Diana« e. V. Bad Rothenfelde und Umgebung\, Versmolder Straße 38\, Bad Rothenfelde\, 33428\, Deutschland
END:VEVENT
BEGIN:VEVENT
DTSTART;TZID=UTC:20220902T080000
DTEND;TZID=UTC:20220904T170000
DTSTAMP:20260424T231047
CREATED:20220315T100952Z
LAST-MODIFIED:20220315T100954Z
UID:2093-1662105600-1662310800@wwb-entertainment.de
SUMMARY:Geseke
DESCRIPTION:
URL:https://wwb-entertainment.de/veranstaltungen/geseke/
END:VEVENT
END:VCALENDAR