BEGIN:VCALENDAR
VERSION:2.0
PRODID:-//WWB-Entertainment Ihr Eventservice für Ihr Reitturnier und mehr - ECPv6.2.4//NONSGML v1.0//EN
CALSCALE:GREGORIAN
METHOD:PUBLISH
X-WR-CALNAME:WWB-Entertainment Ihr Eventservice für Ihr Reitturnier und mehr
X-ORIGINAL-URL:https://wwb-entertainment.de
X-WR-CALDESC:Veranstaltungen für WWB-Entertainment Ihr Eventservice für Ihr Reitturnier und mehr
REFRESH-INTERVAL;VALUE=DURATION:PT1H
X-Robots-Tag:noindex
X-PUBLISHED-TTL:PT1H
BEGIN:VTIMEZONE
TZID:UTC
BEGIN:STANDARD
TZOFFSETFROM:+0000
TZOFFSETTO:+0000
TZNAME:UTC
DTSTART:20220101T000000
END:STANDARD
END:VTIMEZONE
BEGIN:VEVENT
DTSTART;TZID=UTC:20220805T080000
DTEND;TZID=UTC:20220807T170000
DTSTAMP:20260425T002552
CREATED:20220315T091827Z
LAST-MODIFIED:20220315T091828Z
UID:2065-1659686400-1659891600@wwb-entertainment.de
SUMMARY:Ennigerloh-Neubeckum Springen
DESCRIPTION:
URL:https://wwb-entertainment.de/veranstaltungen/ennigerloh-neubeckum-springen/
LOCATION:Reitanlage des RZFV Ennigerloh-Neubeckum\, In der Hoest 22\, Ennigerloh-Neubeckum\, 59320\, Deutschland
END:VEVENT
END:VCALENDAR